Package: attract Version: 1.59.0 Command: /home/biocbuild/R/R/bin/R CMD check --install=check:attract.install-out.txt --library=/home/biocbuild/R/R/site-library --no-vignettes --timings attract_1.59.0.tar.gz StartedAt: 2025-01-28 03:37:59 -0000 (Tue, 28 Jan 2025) EndedAt: 2025-01-28 03:44:20 -0000 (Tue, 28 Jan 2025) EllapsedTime: 380.4 seconds RetCode: 0 Status: OK CheckDir: attract.Rcheck Warnings: 0