Package: attract Version: 1.59.0 Command: /home/biocbuild/R/R/bin/R CMD INSTALL attract StartedAt: 2025-01-29 20:18:23 -0000 (Wed, 29 Jan 2025) EndedAt: 2025-01-29 20:18:53 -0000 (Wed, 29 Jan 2025) EllapsedTime: 30.0 seconds RetCode: 0 Status: OK