Package: attract Version: 1.59.0 Command: /Library/Frameworks/R.framework/Resources/bin/R CMD INSTALL attract StartedAt: 2025-02-09 15:33:41 -0500 (Sun, 09 Feb 2025) EndedAt: 2025-02-09 15:34:13 -0500 (Sun, 09 Feb 2025) EllapsedTime: 31.5 seconds RetCode: 0 Status: OK