Package: attract Version: 1.59.0 Command: /home/biocbuild/bbs-3.21-bioc/R/bin/R CMD build --keep-empty-dirs --no-resave-data attract StartedAt: 2025-02-09 16:11:18 -0500 (Sun, 09 Feb 2025) EndedAt: 2025-02-09 16:13:32 -0500 (Sun, 09 Feb 2025) EllapsedTime: 134.1 seconds RetCode: 0 Status: OK PackageFile: attract_1.59.0.tar.gz PackageFileSize: 4.295 MiB