Package: attract Version: 1.59.0 Command: /home/biocbuild/bbs-3.21-bioc/R/bin/R CMD INSTALL attract StartedAt: 2025-02-09 15:40:10 -0500 (Sun, 09 Feb 2025) EndedAt: 2025-02-09 15:40:33 -0500 (Sun, 09 Feb 2025) EllapsedTime: 22.1 seconds RetCode: 0 Status: OK