Package: attract Version: 1.59.0 Command: rm -rf attract.buildbin-libdir && mkdir attract.buildbin-libdir && E:\biocbuild\bbs-3.21-bioc\R\bin\R.exe CMD INSTALL --build --library=attract.buildbin-libdir attract_1.59.0.tar.gz StartedAt: 2025-02-04 07:29:22 -0500 (Tue, 04 Feb 2025) EndedAt: 2025-02-04 07:29:57 -0500 (Tue, 04 Feb 2025) EllapsedTime: 35.5 seconds RetCode: 0 Status: OK PackageFile: attract_1.59.0.zip PackageFileSize: 4.279 MiB