Package: attract Version: 1.59.0 Command: chmod a+r attract -R && E:\biocbuild\bbs-3.21-bioc\R\bin\R.exe CMD build --keep-empty-dirs --no-resave-data attract StartedAt: 2025-02-03 17:30:06 -0500 (Mon, 03 Feb 2025) EndedAt: 2025-02-03 17:33:04 -0500 (Mon, 03 Feb 2025) EllapsedTime: 177.6 seconds RetCode: 0 Status: OK PackageFile: attract_1.59.0.tar.gz PackageFileSize: 4.207 MiB