Package: attract Version: 1.59.0 Command: E:\biocbuild\bbs-3.21-bioc\R\bin\R.exe CMD INSTALL attract StartedAt: 2025-02-09 15:59:15 -0500 (Sun, 09 Feb 2025) EndedAt: 2025-02-09 15:59:50 -0500 (Sun, 09 Feb 2025) EllapsedTime: 34.9 seconds RetCode: 0 Status: OK