Package: autonomics Version: 1.15.143 Maintainer: Aditya Bhagwat MaintainerEmail: aditya.bhagwat at uni-marburg.de git_url: https://git.bioconductor.org/packages/autonomics git_branch: devel git_last_commit: d6a7703 git_last_commit_date: 2025-01-28 04:51:36 -0500 (Tue, 28 Jan 2025)