Package: autonomics Version: 1.15.143 Command: rm -rf autonomics.buildbin-libdir && mkdir autonomics.buildbin-libdir && /Users/biocbuild/BBS/utils/build-universal.sh autonomics_1.15.143.tar.gz /Library/Frameworks/R.framework/Resources/bin/R autonomics.buildbin-libdir StartedAt: 2025-02-05 22:11:07 -0500 (Wed, 05 Feb 2025) EndedAt: 2025-02-05 22:11:24 -0500 (Wed, 05 Feb 2025) EllapsedTime: 17.3 seconds RetCode: 0 Status: OK PackageFile: autonomics_1.15.143.tgz PackageFileSize: 3.385 MiB