Package: autonomics Version: 1.15.143 Command: /Library/Frameworks/R.framework/Resources/bin/R CMD INSTALL autonomics StartedAt: 2025-02-05 15:21:39 -0500 (Wed, 05 Feb 2025) EndedAt: 2025-02-05 15:21:53 -0500 (Wed, 05 Feb 2025) EllapsedTime: 14.1 seconds RetCode: 0 Status: OK