Package: autonomics Version: 1.15.143 Command: /home/biocbuild/R/R/bin/R CMD INSTALL autonomics StartedAt: 2025-01-29 20:19:59 -0000 (Wed, 29 Jan 2025) EndedAt: 2025-01-29 20:20:53 -0000 (Wed, 29 Jan 2025) EllapsedTime: 53.8 seconds RetCode: 0 Status: OK