Package: autonomics Version: 1.15.143 Command: /Library/Frameworks/R.framework/Resources/bin/R CMD build --keep-empty-dirs --no-resave-data autonomics StartedAt: 2025-02-05 15:53:43 -0500 (Wed, 05 Feb 2025) EndedAt: 2025-02-05 15:56:03 -0500 (Wed, 05 Feb 2025) EllapsedTime: 140.3 seconds RetCode: 0 Status: OK PackageFile: autonomics_1.15.143.tar.gz PackageFileSize: 2.416 MiB