Package: autonomics Version: 1.15.143 Command: /Library/Frameworks/R.framework/Resources/bin/R CMD INSTALL autonomics StartedAt: 2025-02-05 15:33:17 -0500 (Wed, 05 Feb 2025) EndedAt: 2025-02-05 15:34:09 -0500 (Wed, 05 Feb 2025) EllapsedTime: 51.7 seconds RetCode: 0 Status: OK