Package: autonomics Version: 1.15.143 Command: /home/biocbuild/bbs-3.21-bioc/R/bin/R CMD build --keep-empty-dirs --no-resave-data autonomics StartedAt: 2025-02-05 16:10:45 -0500 (Wed, 05 Feb 2025) EndedAt: 2025-02-05 16:12:59 -0500 (Wed, 05 Feb 2025) EllapsedTime: 134.1 seconds RetCode: 0 Status: OK PackageFile: autonomics_1.15.143.tar.gz PackageFileSize: 2.385 MiB