Package: autonomics Version: 1.15.143 Command: /home/biocbuild/bbs-3.21-bioc/R/bin/R CMD INSTALL autonomics StartedAt: 2025-02-05 15:21:42 -0500 (Wed, 05 Feb 2025) EndedAt: 2025-02-05 15:22:19 -0500 (Wed, 05 Feb 2025) EllapsedTime: 37.1 seconds RetCode: 0 Status: OK