Package: autonomics Version: 1.15.143 Command: rm -rf autonomics.buildbin-libdir && mkdir autonomics.buildbin-libdir && E:\biocbuild\bbs-3.21-bioc\R\bin\R.exe CMD INSTALL --build --library=autonomics.buildbin-libdir autonomics_1.15.143.tar.gz StartedAt: 2025-02-06 07:31:53 -0500 (Thu, 06 Feb 2025) EndedAt: 2025-02-06 07:35:58 -0500 (Thu, 06 Feb 2025) EllapsedTime: 244.7 seconds RetCode: 0 Status: OK PackageFile: autonomics_1.15.143.zip PackageFileSize: 2.224 MiB