Package: autonomics Version: 1.15.143 Command: chmod a+r autonomics -R && E:\biocbuild\bbs-3.21-bioc\R\bin\R.exe CMD build --keep-empty-dirs --no-resave-data autonomics StartedAt: 2025-02-05 17:21:53 -0500 (Wed, 05 Feb 2025) EndedAt: 2025-02-05 17:25:31 -0500 (Wed, 05 Feb 2025) EllapsedTime: 218.1 seconds RetCode: 0 Status: OK PackageFile: autonomics_1.15.143.tar.gz PackageFileSize: 1.257 MiB