Package: autonomics Version: 1.15.143 Command: E:\biocbuild\bbs-3.21-bioc\R\bin\R.exe CMD check --no-multiarch --install=check:autonomics.install-out.txt --library=E:\biocbuild\bbs-3.21-bioc\R\library --no-vignettes --timings autonomics_1.15.143.tar.gz StartedAt: 2025-02-05 23:13:21 -0500 (Wed, 05 Feb 2025) EndedAt: 2025-02-05 23:32:22 -0500 (Wed, 05 Feb 2025) EllapsedTime: 1140.5 seconds RetCode: 0 Status: OK CheckDir: autonomics.Rcheck Warnings: 0