Package: autonomics Version: 1.15.143 Command: E:\biocbuild\bbs-3.21-bioc\R\bin\R.exe CMD INSTALL autonomics StartedAt: 2025-02-05 16:38:27 -0500 (Wed, 05 Feb 2025) EndedAt: 2025-02-05 16:41:55 -0500 (Wed, 05 Feb 2025) EllapsedTime: 208.1 seconds RetCode: 0 Status: OK