Package: bacon Version: 1.35.0 Command: /Library/Frameworks/R.framework/Resources/bin/R CMD build --keep-empty-dirs --no-resave-data bacon StartedAt: 2025-02-09 15:56:16 -0500 (Sun, 09 Feb 2025) EndedAt: 2025-02-09 15:57:00 -0500 (Sun, 09 Feb 2025) EllapsedTime: 44.5 seconds RetCode: 0 Status: OK PackageFile: bacon_1.35.0.tar.gz PackageFileSize: 2.096 MiB