Package: bacon Version: 1.35.0 Command: /home/biocbuild/bbs-3.21-bioc/R/bin/R CMD build --keep-empty-dirs --no-resave-data bacon StartedAt: 2025-02-12 16:12:16 -0500 (Wed, 12 Feb 2025) EndedAt: 2025-02-12 16:12:56 -0500 (Wed, 12 Feb 2025) EllapsedTime: 40.0 seconds RetCode: 0 Status: OK PackageFile: bacon_1.35.0.tar.gz PackageFileSize: 1.872 MiB