Package: bacon Version: 1.35.0 Command: chmod a+r bacon -R && E:\biocbuild\bbs-3.21-bioc\R\bin\R.exe CMD build --keep-empty-dirs --no-resave-data bacon StartedAt: 2025-02-12 17:19:59 -0500 (Wed, 12 Feb 2025) EndedAt: 2025-02-12 17:21:13 -0500 (Wed, 12 Feb 2025) EllapsedTime: 74.2 seconds RetCode: 0 Status: OK PackageFile: bacon_1.35.0.tar.gz PackageFileSize: 587.8 KiB