Package: bacon Version: 1.35.0 Command: E:\biocbuild\bbs-3.21-bioc\R\bin\R.exe CMD INSTALL bacon StartedAt: 2025-02-09 15:36:58 -0500 (Sun, 09 Feb 2025) EndedAt: 2025-02-09 15:37:21 -0500 (Sun, 09 Feb 2025) EllapsedTime: 23.1 seconds RetCode: 0 Status: OK