Package: ballgown Version: 2.39.0 Command: rm -rf ballgown.buildbin-libdir && mkdir ballgown.buildbin-libdir && /Users/biocbuild/BBS/utils/build-universal.sh ballgown_2.39.0.tar.gz /Library/Frameworks/R.framework/Resources/bin/R ballgown.buildbin-libdir StartedAt: 2025-02-09 22:06:21 -0500 (Sun, 09 Feb 2025) EndedAt: 2025-02-09 22:06:38 -0500 (Sun, 09 Feb 2025) EllapsedTime: 17.3 seconds RetCode: 0 Status: OK PackageFile: ballgown_2.39.0.tgz PackageFileSize: 3.317 MiB