Package: ballgown Version: 2.39.0 Command: /Library/Frameworks/R.framework/Resources/bin/R CMD check --install=check:ballgown.install-out.txt --library=/Library/Frameworks/R.framework/Resources/library --no-vignettes --timings ballgown_2.39.0.tar.gz StartedAt: 2025-02-09 18:07:31 -0500 (Sun, 09 Feb 2025) EndedAt: 2025-02-09 18:09:50 -0500 (Sun, 09 Feb 2025) EllapsedTime: 138.5 seconds RetCode: 0 Status: OK CheckDir: ballgown.Rcheck Warnings: 0