Package: ballgown Version: 2.39.0 Command: /home/biocbuild/R/R/bin/R CMD build --keep-empty-dirs --no-resave-data ballgown StartedAt: 2025-01-29 20:57:42 -0000 (Wed, 29 Jan 2025) EndedAt: 2025-01-29 20:58:53 -0000 (Wed, 29 Jan 2025) EllapsedTime: 71.0 seconds RetCode: 0 Status: OK PackageFile: ballgown_2.39.0.tar.gz PackageFileSize: 3.005 MiB