Package: ballgown Version: 2.39.0 Command: /Library/Frameworks/R.framework/Resources/bin/R CMD INSTALL ballgown StartedAt: 2025-02-09 15:34:42 -0500 (Sun, 09 Feb 2025) EndedAt: 2025-02-09 15:35:33 -0500 (Sun, 09 Feb 2025) EllapsedTime: 51.7 seconds RetCode: 0 Status: OK