Package: ballgown Version: 2.39.0 Command: E:\biocbuild\bbs-3.21-bioc\R\bin\R.exe CMD INSTALL ballgown StartedAt: 2025-02-09 16:30:26 -0500 (Sun, 09 Feb 2025) EndedAt: 2025-02-09 16:31:49 -0500 (Sun, 09 Feb 2025) EllapsedTime: 82.4 seconds RetCode: 0 Status: OK