Package: bambu Version: 3.9.2 Maintainer: Ying Chen MaintainerEmail: chen_ying at gis.a-star.edu.sg git_url: https://git.bioconductor.org/packages/bambu git_branch: devel git_last_commit: b5cde98 git_last_commit_date: 2025-02-07 03:42:37 -0500 (Fri, 07 Feb 2025)