Package: bambu Version: 3.9.1 Command: /Library/Frameworks/R.framework/Resources/bin/R CMD check --install=check:bambu.install-out.txt --library=/Library/Frameworks/R.framework/Resources/library --no-vignettes --timings bambu_3.9.1.tar.gz StartedAt: 2025-02-04 18:08:06 -0500 (Tue, 04 Feb 2025) EndedAt: 2025-02-04 18:10:47 -0500 (Tue, 04 Feb 2025) EllapsedTime: 160.7 seconds RetCode: 0 Status: OK CheckDir: bambu.Rcheck Warnings: 0