Package: bambu Version: 3.9.1 Command: /Library/Frameworks/R.framework/Resources/bin/R CMD INSTALL bambu StartedAt: 2025-02-04 15:11:01 -0500 (Tue, 04 Feb 2025) EndedAt: 2025-02-04 15:11:22 -0500 (Tue, 04 Feb 2025) EllapsedTime: 21.3 seconds RetCode: 0 Status: OK