Package: bambu Version: 3.9.0 Command: /home/biocbuild/R/R/bin/R CMD build --keep-empty-dirs --no-resave-data bambu StartedAt: 2025-01-28 20:55:39 -0000 (Tue, 28 Jan 2025) EndedAt: 2025-01-28 21:35:40 -0000 (Tue, 28 Jan 2025) EllapsedTime: 2400.7 seconds RetCode: None Status: TIMEOUT PackageFile: None PackageFileSize: NA