Package: bambu Version: 3.9.0 Command: /home/biocbuild/R/R/bin/R CMD check --install=check:bambu.install-out.txt --library=/home/biocbuild/R/R/site-library --no-vignettes --timings bambu_3.9.0.tar.gz StartedAt: 2025-01-27 04:29:24 -0000 (Mon, 27 Jan 2025) EndedAt: 2025-01-27 04:39:51 -0000 (Mon, 27 Jan 2025) EllapsedTime: 626.7 seconds RetCode: 0 Status: OK CheckDir: bambu.Rcheck Warnings: 0