Package: bambu Version: 3.9.3 Command: rm -rf bambu.buildbin-libdir && mkdir bambu.buildbin-libdir && /Users/biocbuild/BBS/utils/build-universal.sh bambu_3.9.3.tar.gz /Library/Frameworks/R.framework/Resources/bin/R bambu.buildbin-libdir StartedAt: 2025-02-13 00:25:45 -0500 (Thu, 13 Feb 2025) EndedAt: 2025-02-13 00:27:00 -0500 (Thu, 13 Feb 2025) EllapsedTime: 75.1 seconds RetCode: 0 Status: OK PackageFile: bambu_3.9.3.tgz PackageFileSize: 2.094 MiB