Package: bambu Version: 3.9.3 Command: /Library/Frameworks/R.framework/Resources/bin/R CMD check --install=check:bambu.install-out.txt --library=/Library/Frameworks/R.framework/Resources/library --no-vignettes --timings bambu_3.9.3.tar.gz StartedAt: 2025-02-12 18:59:21 -0500 (Wed, 12 Feb 2025) EndedAt: 2025-02-12 19:07:48 -0500 (Wed, 12 Feb 2025) EllapsedTime: 507.2 seconds RetCode: 0 Status: OK CheckDir: bambu.Rcheck Warnings: 0