Package: bambu Version: 3.9.2 Command: /Library/Frameworks/R.framework/Resources/bin/R CMD INSTALL bambu StartedAt: 2025-02-09 15:20:19 -0500 (Sun, 09 Feb 2025) EndedAt: 2025-02-09 15:21:31 -0500 (Sun, 09 Feb 2025) EllapsedTime: 72.6 seconds RetCode: 0 Status: OK