Package: bambu Version: 3.9.2 Command: /home/biocbuild/bbs-3.21-bioc/R/bin/R CMD build --keep-empty-dirs --no-resave-data bambu StartedAt: 2025-02-09 16:13:03 -0500 (Sun, 09 Feb 2025) EndedAt: 2025-02-09 16:25:37 -0500 (Sun, 09 Feb 2025) EllapsedTime: 753.7 seconds RetCode: 0 Status: OK PackageFile: bambu_3.9.2.tar.gz PackageFileSize: 2.246 MiB