Package: bambu Version: 3.9.2 Command: /home/biocbuild/bbs-3.21-bioc/R/bin/R CMD check --install=check:bambu.install-out.txt --library=/home/biocbuild/bbs-3.21-bioc/R/site-library --timings bambu_3.9.2.tar.gz StartedAt: 2025-02-09 20:08:29 -0500 (Sun, 09 Feb 2025) EndedAt: 2025-02-09 20:28:53 -0500 (Sun, 09 Feb 2025) EllapsedTime: 1223.6 seconds RetCode: 1 Status: ERROR CheckDir: bambu.Rcheck Warnings: NA