Package: bambu Version: 3.9.3 Command: /home/biocbuild/bbs-3.21-bioc/R/bin/R CMD INSTALL bambu StartedAt: 2025-02-12 15:44:01 -0500 (Wed, 12 Feb 2025) EndedAt: 2025-02-12 15:44:58 -0500 (Wed, 12 Feb 2025) EllapsedTime: 56.6 seconds RetCode: 0 Status: OK