Package: bamsignals Version: 1.39.0 Command: /Library/Frameworks/R.framework/Resources/bin/R CMD build --keep-empty-dirs --no-resave-data bamsignals StartedAt: 2025-02-09 15:35:45 -0500 (Sun, 09 Feb 2025) EndedAt: 2025-02-09 15:35:57 -0500 (Sun, 09 Feb 2025) EllapsedTime: 12.1 seconds RetCode: 0 Status: OK PackageFile: bamsignals_1.39.0.tar.gz PackageFileSize: 3.151 MiB