Package: bamsignals Version: 1.39.0 Command: /home/biocbuild/R/R/bin/R CMD INSTALL bamsignals StartedAt: 2025-01-29 19:38:07 -0000 (Wed, 29 Jan 2025) EndedAt: 2025-01-29 19:38:40 -0000 (Wed, 29 Jan 2025) EllapsedTime: 33.2 seconds RetCode: 0 Status: OK