Package: bamsignals Version: 1.39.0 Command: /Library/Frameworks/R.framework/Resources/bin/R CMD INSTALL bamsignals StartedAt: 2025-02-12 15:09:21 -0500 (Wed, 12 Feb 2025) EndedAt: 2025-02-12 15:09:50 -0500 (Wed, 12 Feb 2025) EllapsedTime: 28.9 seconds RetCode: 0 Status: OK