Package: bamsignals Version: 1.39.0 Command: /home/biocbuild/bbs-3.21-bioc/R/bin/R CMD check --install=check:bamsignals.install-out.txt --library=/home/biocbuild/bbs-3.21-bioc/R/site-library --timings bamsignals_1.39.0.tar.gz StartedAt: 2025-02-09 20:08:34 -0500 (Sun, 09 Feb 2025) EndedAt: 2025-02-09 20:10:22 -0500 (Sun, 09 Feb 2025) EllapsedTime: 108.1 seconds RetCode: 0 Status: OK CheckDir: bamsignals.Rcheck Warnings: 0