Package: bamsignals Version: 1.39.0 Command: rm -rf bamsignals.buildbin-libdir && mkdir bamsignals.buildbin-libdir && E:\biocbuild\bbs-3.21-bioc\R\bin\R.exe CMD INSTALL --build --library=bamsignals.buildbin-libdir bamsignals_1.39.0.tar.gz StartedAt: 2025-02-13 07:26:28 -0500 (Thu, 13 Feb 2025) EndedAt: 2025-02-13 07:27:14 -0500 (Thu, 13 Feb 2025) EllapsedTime: 46.2 seconds RetCode: 0 Status: OK PackageFile: bamsignals_1.39.0.zip PackageFileSize: 6.824 MiB