Package: bamsignals Version: 1.39.0 Command: E:\biocbuild\bbs-3.21-bioc\R\bin\R.exe CMD check --no-multiarch --install=check:bamsignals.install-out.txt --library=E:\biocbuild\bbs-3.21-bioc\R\library --no-vignettes --timings bamsignals_1.39.0.tar.gz StartedAt: 2025-02-12 22:53:24 -0500 (Wed, 12 Feb 2025) EndedAt: 2025-02-12 22:56:28 -0500 (Wed, 12 Feb 2025) EllapsedTime: 184.2 seconds RetCode: 0 Status: OK CheckDir: bamsignals.Rcheck Warnings: 0