Package: bandle Version: 1.11.0 Command: /Library/Frameworks/R.framework/Resources/bin/R CMD check --install=check:bandle.install-out.txt --library=/Library/Frameworks/R.framework/Resources/library --no-vignettes --timings bandle_1.11.0.tar.gz StartedAt: 2025-02-09 18:07:53 -0500 (Sun, 09 Feb 2025) EndedAt: 2025-02-09 18:11:26 -0500 (Sun, 09 Feb 2025) EllapsedTime: 213.5 seconds RetCode: 0 Status: WARNINGS CheckDir: bandle.Rcheck Warnings: 1