Package: bandle Version: 1.11.0 Command: /Library/Frameworks/R.framework/Resources/bin/R CMD INSTALL bandle StartedAt: 2025-02-09 15:24:18 -0500 (Sun, 09 Feb 2025) EndedAt: 2025-02-09 15:24:49 -0500 (Sun, 09 Feb 2025) EllapsedTime: 31.0 seconds RetCode: 0 Status: OK