Package: bandle Version: 1.11.0 Command: /home/biocbuild/R/R/bin/R CMD INSTALL bandle StartedAt: 2025-01-29 20:27:16 -0000 (Wed, 29 Jan 2025) EndedAt: 2025-01-29 20:29:33 -0000 (Wed, 29 Jan 2025) EllapsedTime: 137.5 seconds RetCode: 0 Status: OK