Package: bandle Version: 1.11.0 Command: rm -rf bandle.buildbin-libdir && mkdir bandle.buildbin-libdir && /Users/biocbuild/BBS/utils/build-universal.sh bandle_1.11.0.tar.gz /Library/Frameworks/R.framework/Resources/bin/R bandle.buildbin-libdir StartedAt: 2025-02-10 00:42:29 -0500 (Mon, 10 Feb 2025) EndedAt: 2025-02-10 00:44:32 -0500 (Mon, 10 Feb 2025) EllapsedTime: 122.5 seconds RetCode: 0 Status: OK PackageFile: bandle_1.11.0.tgz PackageFileSize: 4.862 MiB